BEGIN:VCALENDAR
VERSION:2.0
PRODID:-//eventon.com NONSGML v1.0//EN
BEGIN:VEVENT
UID:69ebd25f38b70
DTSTAMP:20260424T222815
DTSTART:20220901T180000Z
DTEND:20220901T215000Z
LOCATION:Museo delle Terme di Diocleziano\,  Roma 
SUMMARY:CORO GIOVANILE ITALIANO
DESCRIPTION: [:it]Anteprima del Festival[..][:en]Preview of the Festival[..][:][..]
END:VEVENT
END:VCALENDAR