BEGIN:VCALENDAR
VERSION:2.0
PRODID:-//eventon.com NONSGML v1.0//EN
BEGIN:VEVENT
UID:69eba7a05e872
DTSTAMP:20260424T192552
DTSTART:20210909T190000Z
DTEND:20210909T215000Z
LOCATION:Piazza Vittorio Veneto\,  Configni (RI) 
SUMMARY:GEORGIAN CHAMBER SOLOISTS
DESCRIPTION: [:it]Violino e direttore artistico Sandro Tigishvili Soprano Ketevan Abiatari Musiche di Taktakishvili\,  Tsintsadze[..][:en]Violin and artistic director Sandro Tigishvili Soprano Ketevan Abiatari Music by Taktakishvili\,  Tsintsadze[..][:][..]
END:VEVENT
END:VCALENDAR