BEGIN:VCALENDAR
VERSION:2.0
PRODID:-//eventon.com NONSGML v1.0//EN
BEGIN:VEVENT
UID:69eba82dd8de8
DTSTAMP:20260424T192813
DTSTART:20210904T190000Z
DTEND:20210904T215000Z
LOCATION:Teatro Mancinelli\,  Orvieto 
SUMMARY:[:it]Concerto lirico dei solisti dell'Accademia del Teatro Carlo Felice di Genova[:en]Opera concert by the soloists of the Academy of the Carlo Felice Theater in Genoa[:]
DESCRIPTION: [:it]A cura di Serena Gamberoni e Francesco Meli[..][:en]Curated by Serena Gamberoni and Francesco Meli[..][:][..]
END:VEVENT
END:VCALENDAR