BEGIN:VCALENDAR
VERSION:2.0
PRODID:-//eventon.com NONSGML v1.0//EN
BEGIN:VEVENT
UID:69eba82700f2e
DTSTAMP:20260424T192807
DTSTART:20210912T190000Z
DTEND:20210912T215000Z
LOCATION:Teatro Mancinelli\,  Orvieto 
SUMMARY:[:it]CONCERTO  SINFONICO[:en]SYMPHONIC CONCERT[:]
DESCRIPTION: [:it]Orchestra Filarmonica Vittorio Calamani Direttore Hossein Pishkar Musiche di Haydn\,  Beethoven[..][:en]Orchestra Filarmonica Vittorio Calamani Director Hossein Pishkar Music by Haydn\,  Beethoven[..][:][..]
END:VEVENT
END:VCALENDAR