BEGIN:VCALENDAR
VERSION:2.0
PRODID:-//eventon.com NONSGML v1.0//EN
BEGIN:VEVENT
UID:69ebbd8629b16
DTSTAMP:20260424T205918
DTSTART:20210911T193000Z
DTEND:20210911T215000Z
LOCATION:Piazza Duomo\,  Orvieto 
SUMMARY:I VIRTUOSI DEL TEATRO ALLA SCALA
DESCRIPTION: [:it]Musiche di Rossini\,  Pecolo\,  Squarzina\,  Mercadante\,  Rota\,  Zannini[..][:en]Music by Rossini\,  Pecolo\,  Squarzina\,  Mercadante\,  Rota\,  Zannini[..][:][..]
END:VEVENT
END:VCALENDAR