BEGIN:VCALENDAR
VERSION:2.0
PRODID:-//eventon.com NONSGML v1.0//EN
BEGIN:VEVENT
UID:69eba7b0d326c
DTSTAMP:20260424T192608
DTSTART:20210911T160000Z
DTEND:20210911T215000Z
LOCATION:Teatro Mancinelli\,  Orvieto 
SUMMARY:GEORGIAN CHAMBER SOLOISTS
DESCRIPTION: [:it]Violino e direttore artistico Sandro Tigishvili Soprano Ketevan Abiatari Musiche di Taktakishvili\,  Tsintsadze[..][:en]Violin and artistic director Sandro Tigishvili Soprano Ketevan Abiatari Music by Taktakishvili\,  Tsintsadze[..][:][..]
END:VEVENT
END:VCALENDAR