BEGIN:VCALENDAR
VERSION:2.0
PRODID:-//eventon.com NONSGML v1.0//EN
BEGIN:VEVENT
UID:69ebbdde474c3
DTSTAMP:20260424T210046
DTSTART:20210910T190000Z
DTEND:20210910T215000Z
LOCATION:Teatro Mancinelli\,  Orvieto 
SUMMARY:Storia di un Gesù
DESCRIPTION: [:it]Enrique Irazoqui e Il Vangelo secondo Matteo di Pasolini Flauto Massimo Mercelli Testo e voce narrante Guido Barbieri Solisti dell’Orchestra Filarmonica Vittorio Calamani[..][:en]Enrique Irazoqui e Il Vangelo secondo Matteo di Pasolini Flute Massimo Mercelli Text and narrating voice Guido Barbieri Soloists of the Orchestra Filarmonica Vittorio Calamani[..][:][..]
END:VEVENT
END:VCALENDAR