BEGIN:VCALENDAR
VERSION:2.0
PRODID:-//eventon.com NONSGML v1.0//EN
BEGIN:VEVENT
UID:69eba8a4813bd
DTSTAMP:20260424T193012
DTSTART:20210905T140000Z
DTEND:20210905T215000Z
LOCATION:Sala CittàSlow\,  Palazzo dei Sette\,  Orvieto 
SUMMARY:LEONARDO SCIASCIA E LA  BELLEZZA POLITICAMENTE SCORRETTA
DESCRIPTION: [:it]Fabrizio Catalano racconta suo nonno\,  Leonardo Sciascia[..][:en]Fabrizio Catalano tells about his grandfather\,  Leonardo Sciascia[..][:][..]
END:VEVENT
END:VCALENDAR