BEGIN:VCALENDAR
VERSION:2.0
PRODID:-//eventon.com NONSGML v1.0//EN
BEGIN:VEVENT
UID:69eba7df716fa
DTSTAMP:20260424T192655
DTSTART:20210905T090000Z
DTEND:20210905T215000Z
LOCATION:Ridotto del Teatro Mancinelli\,  Orvieto 
SUMMARY:Pizz'n'zip
DESCRIPTION: [:it]Spettacolo per grandi e piccini Violino\,  movimento e canto Eleonora Savini Violoncello\,  movimento e canto Federica Vecchio[..][:en]Show for young and old Violin\,  dance and voice Eleonora Savini Cello\,  dance and voice Federica Vecchio[..][:][..]
END:VEVENT
END:VCALENDAR