BEGIN:VCALENDAR
VERSION:2.0
PRODID:-//eventon.com NONSGML v1.0//EN
BEGIN:VEVENT
UID:69eba85b48cf1
DTSTAMP:20260424T192859
DTSTART:20210912T143000Z
DTEND:20210912T215000Z
LOCATION:Piazzale Giacomo Matteotti\,  Orvieto 
SUMMARY:[:it]Passeggiata e concerto[:en]walk and concert[:]
DESCRIPTION: [:it]Escursione guidata dal CAI a Le velette e a seguire concerto del Burtuqal Quartet[..][:en]Guided excursion by CAI to Le velette and to follow concert by the Burtuqal Quartet[..][:][..]
END:VEVENT
END:VCALENDAR