BEGIN:VCALENDAR
VERSION:2.0
PRODID:-//eventon.com NONSGML v1.0//EN
BEGIN:VEVENT
UID:69ebbd79d1e7c
DTSTAMP:20260424T205905
DTSTART:20210905T080000Z
DTEND:20210905T215000Z
LOCATION:Piazzale Giacomo Matteotti\,  Orvieto 
SUMMARY:[:it]Passeggiata e concerto[:en]walk and concert[:]
DESCRIPTION: [:it]Passeggiata guidata dal CAI per le strade medievali di Orvieto e concerto di Opificio Sonoro Accordeon Samuele Telari[..][:en]Walk guided by the CAI through the medieval streets of Orvieto and concert of Opificio Sonoro Accordeon Samuele Telari[..][:][..]
END:VEVENT
END:VCALENDAR