BEGIN:VCALENDAR
VERSION:2.0
PRODID:-//eventon.com NONSGML v1.0//EN
BEGIN:VEVENT
UID:69eba7a65c2b0
DTSTAMP:20260424T192558
DTSTART:20210905T160000Z
DTEND:20210905T215000Z
LOCATION:Teatro Mancinelli\,  Orvieto 
SUMMARY:[:it]FRANCESCO MELI E SERENA GAMBERONI: GALÀ LIRICO[:en]FRANCESCO MELI and SERENA GAMBERONI: LyRIC gala[:]
DESCRIPTION: [:it]Tenore Francesco Meli Soprano Serena Gamberoni Pianoforte Davide Cavalli Musiche di Puccini\,  Leoncavallo\,  Bizet\,  Falla\,  Verdi[..][:en]Tenore Francesco Meli Soprano Serena Gamberoni Piano Davide Cavalli Music by Puccini\,  Leoncavallo\,  Bizet\,  Falla\,  Verdi[..][:][..]
END:VEVENT
END:VCALENDAR