BEGIN:VCALENDAR
VERSION:2.0
PRODID:-//eventon.com NONSGML v1.0//EN
BEGIN:VEVENT
UID:69eba7b139c85
DTSTAMP:20260424T192609
DTSTART:20210904T160000Z
DTEND:20210904T215000Z
LOCATION:Caffè Cavour 2.0 
SUMMARY:Ensemble SudEstada
DESCRIPTION: [:it]Concerto aperitivo[..][:en]Aperitif concert[..][:][..]
END:VEVENT
END:VCALENDAR