BEGIN:VCALENDAR
VERSION:2.0
PRODID:-//eventon.com NONSGML v1.0//EN
BEGIN:VEVENT
UID:69eba855dc0b3
DTSTAMP:20260424T192853
DTSTART:20210903T190000Z
DTEND:20210903T215000Z
LOCATION:Teatro Mancinelli\,  Orvieto 
SUMMARY:Quartetto di Cremona
DESCRIPTION: [:it]Violino Cristiano Gualco Violino Paolo Andreoli Viola Simone Gramaglia Violoncello Giovanni Scaglione Musiche di Borenstein\,  Verdi\,  Saint-Saëns[..][:en]Violin Cristiano Gualco Violin Paolo Andreoli Viola Simone Gramaglia Cello Giovanni Scaglione Music by Borenstein\,  Verdi\,  Saint-Saëns[..][:][..]
END:VEVENT
END:VCALENDAR