BEGIN:VCALENDAR
VERSION:2.0
PRODID:-//eventon.com NONSGML v1.0//EN
BEGIN:VEVENT
UID:69ebbd953d8d6
DTSTAMP:20260424T205933
DTSTART:20210902T190000Z
DTEND:20210902T215000Z
LOCATION:Teatro Mancinelli\,  Orvieto 
SUMMARY:[:it]concerto orchestra di fiati[:en]Winds orchestra concert[:]
DESCRIPTION: [:it]Direttore Giovanni Ieie[..][:en]Director Giovanni Ieie[..][:][..]
END:VEVENT
END:VCALENDAR