BEGIN:VCALENDAR
VERSION:2.0
PRODID:-//eventon.com NONSGML v1.0//EN
BEGIN:VEVENT
UID:69eba8750876d
DTSTAMP:20260424T192925
DTSTART:20210907T090000Z
DTEND:20210907T215000Z
LOCATION:Auditorium del Carmine\,  Orvieto 
SUMMARY:[:it]Alla scoperta della viola[:en]Discovering the viola[:]
DESCRIPTION: [:it]Concerto conclusivo della masterclass a cura del Maestro Willwohl[..][:en]Final concert of the masterclass by the Maestro Willwohl[..][:][..]
END:VEVENT
END:VCALENDAR