BEGIN:VCALENDAR
VERSION:2.0
PRODID:-//eventon.com NONSGML v1.0//EN
BEGIN:VEVENT
UID:69eba85adce67
DTSTAMP:20260424T192858
DTSTART:20210905T090000Z
DTEND:20210905T215000Z
LOCATION:Auditorium del Carmine\,  Orvieto 
SUMMARY:[:it]Alla scoperta del corno[:en]Discovering the horn[:]
DESCRIPTION: [:it]Concerto conclusivo della masterclass a cura del Maestro Falcioni[..][:en]Final concert of the masterclass by the Maestro Falcioni[..][:][..]
END:VEVENT
END:VCALENDAR