BEGIN:VCALENDAR
VERSION:2.0
PRODID:-//eventon.com NONSGML v1.0//EN
BEGIN:VEVENT
UID:69ebd2449dd5c
DTSTAMP:20260424T222748
DTSTART:20210904T150000Z
DTEND:20210904T215000Z
LOCATION:Auditorium del Carmine\,  Orvieto 
SUMMARY:[:it]Alla scoperta del flauto[:en]Discovering the flute[:]
DESCRIPTION: [:it]Concerto conclusivo della masterclass a cura del Maestro Evangelisti[..][:en]Final concert of the masterclass by the Maestro Evangelisti[..][:][..]
END:VEVENT
END:VCALENDAR