BEGIN:VCALENDAR
VERSION:2.0
PRODID:-//eventon.com NONSGML v1.0//EN
BEGIN:VEVENT
UID:69ebbdcfb18b4
DTSTAMP:20260424T210031
DTSTART:20210831T190000Z
DTEND:20210831T215000Z
LOCATION:Auditorium del Carmine\,  Orvieto 
SUMMARY:[:it]Alla scoperta del sax[:en]Discovering the sax[:]
DESCRIPTION: [:it]Concerto conclusivo della masterclass a cura del Maestro Padula[..][:en]Final concert of the masterclass by the Maestro Padula[..][:][..]
END:VEVENT
END:VCALENDAR