BEGIN:VCALENDAR
VERSION:2.0
PRODID:-//eventon.com NONSGML v1.0//EN
BEGIN:VEVENT
UID:69ebe57020e09
DTSTAMP:20260424T234936
DTSTART:20200810T190000Z
DTEND:20200810T215000Z
LOCATION:Chiesa di San Giovanni Battista\,  Pereto (AQ) 
SUMMARY:TAU TRIO
DESCRIPTION: [:it]Violino Tommaso Santini Viola Giorgia Lenzo Violoncello Jacopo Gianesini Musiche di J. Françaix\,  E. Dohnányi\,  L. Van Beethoven Ingresso gratuito[..][:en]Violin Tommaso Santini Viola Giorgia Lenzo Cello Jacopo Gianesini Music by J. Françaix\,  E. Dohnányi\,  L. Van Beethoven Free entry[..][:][..]
END:VEVENT
END:VCALENDAR