BEGIN:VCALENDAR
VERSION:2.0
PRODID:-//eventon.com NONSGML v1.0//EN
BEGIN:VEVENT
UID:69ebfb06a0839
DTSTAMP:20260425T012142
DTSTART:20200823T190000Z
DTEND:20200823T215000Z
LOCATION:Piazza XX Settembre\,  Configni 
SUMMARY:LA MUSICA DEL VENTO
DESCRIPTION: [:it]Orchestra di fiati Direttore Giovanni Ieie Ingresso gratuito con prenotazione obbligatoria Prenotazioni su eventbrite[..][:en]Winds Orchestra Director Giovanni Ieie Free entry\,  reservation required Reservation on eventbrite[..][:][..]
END:VEVENT
END:VCALENDAR