BEGIN:VCALENDAR
VERSION:2.0
PRODID:-//eventon.com NONSGML v1.0//EN
BEGIN:VEVENT
UID:69ec0f67a6d20
DTSTAMP:20260425T024839
DTSTART:20200816T190000Z
DTEND:20200816T215000Z
LOCATION:Piazza XX Settembre\,  Configni 
SUMMARY:ORCHESTRA FILARMONICA VITTORIO CALAMANI
DESCRIPTION: [:it]Direttore Hossein Pishkar Musiche di J. Brahms e A. Dvorak Ingresso gratuito con prenotazione obbligatoria Prenotazioni su eventbrite[..][:en]Director Hossein Pishkar Music by J. Brahms and A. Dvorak Free entry\,  reservation required Reservation on eventbrite[..][:][..]
END:VEVENT
END:VCALENDAR