BEGIN:VCALENDAR
VERSION:2.0
PRODID:-//eventon.com NONSGML v1.0//EN
BEGIN:VEVENT
UID:69ec36f06a055
DTSTAMP:20260425T053720
DTSTART:20200814T190000Z
DTEND:20200814T215000Z
LOCATION:Piazza XX Settembre\,  Configni 
SUMMARY:E IL SUON DI LEI
DESCRIPTION: [:it]Gruppo d’archi dell’Orchestra Filarmonica Vittorio Calamani Le stagioni\,  Antonio Vivaldi Antiche arie e danze\,  Ottorino Respighi Violino solista e Maestro concertatore Federica Vignoni Ingresso gratuito con prenotazione obbligatoria Prenotazioni su eventbrite[..][:en]String group from the Orchestra Filarmonica Vittorio Calamani Le stagioni\,  Antonio Vivaldi Antiche arie e danze\,  Ottorino Respighi Solo violin and concert Master Federica Vignoni Free entry\,  reservation required Reservation on eventbrite[..][:][..]
END:VEVENT
END:VCALENDAR