BEGIN:VCALENDAR
VERSION:2.0
PRODID:-//eventon.com NONSGML v1.0//EN
BEGIN:VEVENT
UID:69ec94b36ffb3
DTSTAMP:20260425T121723
DTSTART:20200525T190000Z
DTEND:20200525T215000Z
LOCATION:
SUMMARY:Antecedente Concerto - Giovanni Scaglione\,  violoncellista
DESCRIPTION: Bach\,  Suite n.2 per violoncello solo Evento Facebook[..]
END:VEVENT
END:VCALENDAR