BEGIN:VCALENDAR
VERSION:2.0
PRODID:-//eventon.com NONSGML v1.0//EN
BEGIN:VEVENT
UID:69ecaa5903869
DTSTAMP:20260425T134945
DTSTART:20200518T190000Z
DTEND:20200518T215000Z
LOCATION:
SUMMARY:Antecedente Concerto - Alessandro Taverna
DESCRIPTION: Bach/Rachmaninov: dalla trascrizione della Partita in Mi maggiorePreludio\,  Gavotta\,  Giga) Liszt: Parafrasi sul Rigoletto Strauss/Dohnanyi: Schatz - Walzer Evento Facebook[..]
END:VEVENT
END:VCALENDAR