BEGIN:VCALENDAR
VERSION:2.0
PRODID:-//eventon.com NONSGML v1.0//EN
BEGIN:VEVENT
UID:69ecbd34da4c2
DTSTAMP:20260425T151012
DTSTART:20200511T190000Z
DTEND:20200511T215000Z
LOCATION:
SUMMARY:Antecedente Concerto - The Italian Accordion Bros
DESCRIPTION: Fragancia de Tango Astor Piazzolla\,  Oblivion Gerardo Matos Rodriguez\,  La Cumparsita Carlos Gardel\,  Por una cabeza Anibal Troilo\,  La ultima curda Astor Piazzolla\,  Escualo; Libertango; Jacinto Chiclana Evento Facebook[..]
END:VEVENT
END:VCALENDAR