BEGIN:VCALENDAR
VERSION:2.0
PRODID:-//eventon.com NONSGML v1.0//EN
BEGIN:VEVENT
UID:69ecd02ae2c6f
DTSTAMP:20260425T163106
DTSTART:20200504T190000Z
DTEND:20200504T215000Z
LOCATION:
SUMMARY:[:it]Antecedente Concerto - OPERA POPz Tosca[:en]Antecedente Concerto - OPERA POPz Traviata (Copy)[:]
DESCRIPTION: Spettacolo teatrale in diretta Facebook della compagnia teatrale Iagulli-Raimondi Evento Facebook[..]
END:VEVENT
END:VCALENDAR