BEGIN:VCALENDAR
VERSION:2.0
PRODID:-//eventon.com NONSGML v1.0//EN
BEGIN:VEVENT
UID:69ecc3dfa9cd9
DTSTAMP:20260425T153839
DTSTART:20200427T190000Z
DTEND:20200427T215000Z
LOCATION:
SUMMARY:Antecedente Concerto - Matteo Evangelisti Recital Flauto Solo
DESCRIPTION: Diretta Facebook del recital per flauto solo di Matteo Evangelisti\,  primo flauto del Teatro dell'Opera di Roma. Marin Marais: Les Folies d'Espagne Claude Debussy: Syrinx Edgard Varèse: Density 21.5 Evento Facebook[..]
END:VEVENT
END:VCALENDAR