BEGIN:VCALENDAR
VERSION:2.0
PRODID:-//eventon.com NONSGML v1.0//EN
BEGIN:VEVENT
UID:69ecb2a80713c
DTSTAMP:20260425T142512
DTSTART:20200420T190000Z
DTEND:20200420T215000Z
LOCATION:
SUMMARY:Antecedente Concerto - OPERA POPz Traviata
DESCRIPTION: Spettacolo teatrale in diretta Facebook della compagnia teatrale Iagulli-Raimondi Evento Facebook[..]
END:VEVENT
END:VCALENDAR