BEGIN:VCALENDAR
VERSION:2.0
PRODID:-//eventon.com NONSGML v1.0//EN
BEGIN:VEVENT
UID:69ec9c93b97d7
DTSTAMP:20260425T125059
DTSTART:20200413T190000Z
DTEND:20200413T215000Z
LOCATION:
SUMMARY:Antecedente Concerto - Proses Lyriques
DESCRIPTION: Pianoforte Alfonso Alberti Soprano Maria Eleonora Caminada Concerto in diretta Facebook con introduzione sulle Proses lyriques di Claude Debussy Evento Facebook[..]
END:VEVENT
END:VCALENDAR