BEGIN:VCALENDAR
VERSION:2.0
PRODID:-//eventon.com NONSGML v1.0//EN
BEGIN:VEVENT
UID:69ec3203050f1
DTSTAMP:20260425T051619
DTSTART:20190811T190000Z
DTEND:20190811T215000Z
LOCATION:Chiesa di Santa Maria Assunta\,  Configni 
SUMMARY:CLARINETTOMANIA
DESCRIPTION: [:it]Concerto a cura del Maestro Simone Nicoletta Ingresso libero fino ad esaurimento posti[..][:en]Concert by Master Simone Nicoletta Free admission subject to availability[..][:][..]
END:VEVENT
END:VCALENDAR