BEGIN:VCALENDAR
VERSION:2.0
PRODID:-//eventon.com NONSGML v1.0//EN
BEGIN:VEVENT
UID:69ec1d3e5401c
DTSTAMP:20260425T034742
DTSTART:20190810T190000Z
DTEND:20190810T215000Z
LOCATION:Parco Montegrappa\,  Configni 
SUMMARY:RIGOLETTO
DESCRIPTION: [:it]Di Stefano Iagulli ed Elisabetta Raimondi Lucchetti Attrice Elisabetta Raimondi Lucchetti Regia Stefano Iagulli Soprano Lucia Filaci Tenore Alessandro Fiocchetti Baritono Paolo Leonardi Pianoforte Emanuele Grigioni Ingresso libero fino ad esaurimento posti[..][:en]By Stefano Iagulli and Elisabetta Raimondi Lucchetti Actress Elisabetta Raimondi Lucchetti Mise-en-scène Stefano Iagulli Soprano Lucia Filaci Tenor Alessandro Fiocchetti Baritone Paolo Leonardi Piano Emanuele Grigioni Free admission subject to availability[..][:][..]
END:VEVENT
END:VCALENDAR