BEGIN:VCALENDAR
VERSION:2.0
PRODID:-//eventon.com NONSGML v1.0//EN
BEGIN:VEVENT
UID:69ec357387d31
DTSTAMP:20260425T053059
DTSTART:20190810T160000Z
DTEND:20190810T215000Z
LOCATION:Chiesa di Santa Maria Assunta\,  Configni 
SUMMARY:ALLA SCOPERTA DEL CONTRABBASSO
DESCRIPTION: [:it]Concerto a cura del Maestro Andrea Mion Ingresso libero fino ad esaurimento posti[..][:en]Concert by Master Andrea Mion Free admission subject to availability[..][:][..]
END:VEVENT
END:VCALENDAR