BEGIN:VCALENDAR
VERSION:2.0
PRODID:-//eventon.com NONSGML v1.0//EN
BEGIN:VEVENT
UID:69ec9dbbecdac
DTSTAMP:20260425T125555
DTSTART:20190717T190000Z
DTEND:20190717T215000Z
LOCATION:Chiesa di Santa Maria Assunta\,  Configni 
SUMMARY:FORTE TRIO
DESCRIPTION: [:it]Violino Dinara Bazarbaeva-Sakhaman Violoncello Murat Narbecov Pianoforte Timur Urmancheev Musiche di Rachmaninov\,  De Falla\,  Mendelssohn\,  Piazzolla Ingresso libero fino ad esaurimento posti Prenotazioni su eventbrite[..][:en]Violin Dinara Bazarbaeva-Sakhaman Cello Murat Narbecov Piano Timur Urmancheev Music by Rachmaninov\,  De Falla\,  Mendelssohn\,  Piazzolla Free admission subject to availability Booking: eventbrite[..][:][..]
END:VEVENT
END:VCALENDAR