BEGIN:VCALENDAR
VERSION:2.0
PRODID:-//eventon.com NONSGML v1.0//EN
BEGIN:VEVENT
UID:69ecd9638e0bd
DTSTAMP:20260425T171027
DTSTART:20190714T160000Z
DTEND:20190714T215000Z
LOCATION:Chiesa di Santa Maria Assunta\,  Configni 
SUMMARY:[:it]CONCERTO DELLE CLASSI DI VIOLA\,  VIOLINO E VIOLONCELLO[:en]VIOLIN\,  VIOLA AND CELLO CLASS STUDENTS CONCERT[:]
DESCRIPTION: [:it]A cura dei Maestri Christophe Horak\,  Francesca Zappa e Ulrike Hofmann Ingresso libero fino ad esaurimento posti[..][:en]By Masters Christophe Horak\,  Francesca Zappa and Ulrike Hofmann Free admission subject to availability[..][:][..]
END:VEVENT
END:VCALENDAR