BEGIN:VCALENDAR
VERSION:2.0
PRODID:-//eventon.com NONSGML v1.0//EN
BEGIN:VEVENT
UID:69ecf02ca39bf
DTSTAMP:20260425T184740
DTSTART:20190712T190000Z
DTEND:20190712T215000Z
LOCATION:Chiesa di Santa Maria Assunta\,  Configni 
SUMMARY:[:it]CONCERTO TRIO NIMROD[:en]TRIO NIMROD CONCERT[:]
DESCRIPTION: [:it]Violino Christophe Horak (Berliner Philarmoniker) Viola Francesca Zappa Violoncello Ulrike Hofmann Musiche di Beethoven\,  Dohnany e Kodaly Ingresso libero fino ad esaurimento posti Prenotazioni su eventbrite[..][:en]Violin Christophe Horak (Berliner Philarmoniker) Viola Francesca Zappa Cello Ulrike Hofmann Music by Beethoven\,  Dohnany e Kodaly Free admission subject to availability Booking: eventbrite[..][:][..]
END:VEVENT
END:VCALENDAR